Workbook

Sheet Rekapitulácia stavby
A1: Export Komplet | BA1: 2.0 | BT1: False | BU1: False | BV1: {c634e916-e5e0-4fb8-885a-a66370a39176}
AR2: >> skryté stĺpce << | BS2: 0,01 | BT2: 23
BS3: 0,01 | BT3: 23
D4: REKAPITULÁCIA STAVBY | AS4: v --- nižšie sa nachádzajú doplnkové a pomocné údaje k zostavám --- v | BE4: Návod na vyplnenie | BS4: 0,001
D5: Kód: | K5: 01 | BE5: Meniť je možné iba bunky so žltým podfarbením!_x000D_ _x000D_ 1) na prvom liste Rekapitulácie stavby vyplňte v zostave_x000D_ _x000D_ a) Rekapitulácia stavby_x000D_ - údaje o Zhotoviteľovi_x000D_ (prenesú sa do ostatných zostáv aj v iných listoch)_x000D_ _x000D_ b) Rekapitulácia objektov stavby_x000D_ - potrebné Ostatné náklady_x000D_ _x000D_ 2) na vybraných listoch vyplňte v zostave_x000D_ _x000D_ a) Krycí list_x000D_ - údaje o Zhotoviteľovi, pokiaľ sa líšia od údajov o Zhotoviteľovi na Rekapitulácii stavby_x000D_ (údaje se prenesú do ostatných zostav v danom liste)_x000D_ _x000D_ b) Rekapitulácia rozpočtu_x000D_ - potrebné Ostatné náklady_x000D_ _x000D_ c) Celkové náklady za stavbu_x000D_ - ceny na položkách_x000D_ - množstvo, pokiaľ má žlté podfarbenie_x000D_ - a v prípade potreby poznámku (tá je v skrytom stĺpci) | BS5: 0,01
D6: Stavba: | K6: Miestne komunikácie Krásna | BS6: 0,01
D7: JKSO: | AK7: ČS: | BS7: 0,01
D8: Miesto: | K8: Mestská časť Košice - Krásna | AK8: Dátum: | AN8: 4. 3. 2026 | BS8: 0,01
BS9: 0,01
D10: Objednávateľ: | AK10: IČO: | BS10: 0,01
E11: Mestská časť Košice - Krásna, Opátska18, Košice | AK11: IČ DPH: | BS11: 0,01
BS12: 0,01
D13: Zhotoviteľ: | AK13: IČO: | AN13: Vyplň údaj | BS13: 0,01
E14: Vyplň údaj | AK14: IČ DPH: | AN14: Vyplň údaj | BS14: 0,01
BS15: False
D16: Projektant: | AK16: IČO: | BS16: False
AK17: IČ DPH: | BS17: True
BS18: 0,01
D19: Spracovateľ: | AK19: IČO: | BS19: 0,01
AK20: IČ DPH: | BS20: True
D22: Poznámka:
D26: Cena bez DPH | AK26: =ROUND(AG94,2) -> 0
L28: Sadzba dane | W28: Základ dane | AK28: Výška dane
D29: DPH | F29: základná | L29: 0.23 | W29: =ROUND(AZ94, 2) -> 0 | AK29: =ROUND(AV94, 2) -> 0
F30: znížená | L30: 0.23 | W30: =ROUND(BA94, 2) -> 0 | AK30: =ROUND(AW94, 2) -> 0
F31: zákl. prenesená | L31: 0.23 | W31: =ROUND(BB94, 2) -> 0 | AK31: 0
F32: zníž. prenesená | L32: 0.23 | W32: =ROUND(BC94, 2) -> 0 | AK32: 0
F33: nulová | L33: 0 | W33: =ROUND(BD94, 2) -> 0 | AK33: 0
D35: Cena s DPH | T35: v | X35: EUR | AK35: =SUM(AK26:AK33) -> 0
D49: Projektant | AH49: Spracovateľ
D60: Dátum a podpis: | V60: Pečiatka | AH60: Dátum a podpis: | AM60: Pečiatka
D64: Objednávateľ | AH64: Zhotoviteľ
D75: Dátum a podpis: | V75: Pečiatka | AH75: Dátum a podpis: | AM75: Pečiatka
C82: REKAPITULÁCIA OBJEKTOV STAVBY
C84: Kód: | L84: =K5 -> 01
C85: Stavba: | L85: =K6 -> Miestne komunikácie Krásna
C87: Miesto: | L87: =IF(K8="","",K8) -> Mestská časť Košice - Krásna | AI87: Dátum: | AM87: =IF(AN8= "","",AN8) -> 4. 3. 2026
C89: Objednávateľ: | L89: =IF(E11= "","",E11) -> Mestská časť Košice - Krásna, Opátska18, Košice | AI89: Projektant: | AM89: =IF(E17="","",E17) | AS89: Informatívne údaje z listov zákaziek
C90: Zhotoviteľ: | L90: =IF(E14= "Vyplň údaj","",E14) | AI90: Spracovateľ: | AM90: =IF(E20="","",E20)
C92: Kód | I92: Popis | AG92: Cena bez DPH [EUR] | AN92: Cena s DPH [EUR] | AQ92: Typ | AS92: z toho Ostat._x000D_ náklady [EUR] | AT92: DPH [EUR] | AU92: Normohodiny [h] | AV92: DPH základná [EUR] | AW92: DPH znížená [EUR] | AX92: DPH základná prenesená_x000D_ [EUR] | AY92: DPH znížená prenesená_x000D_ [EUR] | AZ92: Základňa_x000D_ DPH základná | BA92: Základňa_x000D_ DPH znížená | BB92: Základňa_x000D_ DPH zákl. prenesená | BC92: Základňa_x000D_ DPH zníž. prenesená | BD92: Základňa_x000D_ DPH nulová
C94: Náklady z rozpočtov | AG94: =ROUND(AG95+AG96,2) -> 0 | AN94: =SUM(AG94,AT94) -> 0 | AS94: =ROUND(AS95+AS96,2) -> 0 | AT94: =ROUND(SUM(AV94:AW94),2) -> 0 | AU94: =ROUND(AU95+AU96,5) -> 0 | AV94: =ROUND(AZ94*L29,2) -> 0 | AW94: =ROUND(BA94*L30,2) -> 0 | AX94: =ROUND(BB94*L29,2) -> 0 | AY94: =ROUND(BC94*L30,2) -> 0 | AZ94: =ROUND(AZ95+AZ96,2) -> 0 | BA94: =ROUND(BA95+BA96,2) -> 0 | BB94: =ROUND(BB95+BB96,2) -> 0 | BC94: =ROUND(BC95+BC96,2) -> 0 | BD94: =ROUND(BD95+BD96,2) -> 0 | BS94: D | BT94: 0 | BU94: ###NOIMPORT### | BV94: IMPORT | BW94: {c634e916-e5e0-4fb8-885a-a66370a39176} | BX94: {00000000-0000-0000-0000-000000000000}
A95: / | D95: 01 | J95: Rekonštrukcia chodníka - Ulica k Majeru | AG95: ='01 - Rekonštrukcia chodní...'!J32 -> 0 | AN95: =SUM(AG95,AT95) -> 0 | AQ95: STA | AS95: 0 | AT95: =ROUND(SUM(AV95:AW95),2) -> 0 | AU95: ='01 - Rekonštrukcia chodní...'!P136 -> 0 | AV95: ='01 - Rekonštrukcia chodní...'!J35 -> 0 | AW95: ='01 - Rekonštrukcia chodní...'!J36 -> 0 | AX95: ='01 - Rekonštrukcia chodní...'!J37 -> 0 | AY95: ='01 - Rekonštrukcia chodní...'!J38 -> 0 | AZ95: ='01 - Rekonštrukcia chodní...'!F35 -> 0 | BA95: ='01 - Rekonštrukcia chodní...'!F36 -> 0 | BB95: ='01 - Rekonštrukcia chodní...'!F37 -> 0 | BC95: ='01 - Rekonštrukcia chodní...'!F38 -> 0 | BD95: ='01 - Rekonštrukcia chodní...'!F39 -> 0 | BT95: 1 | BV95: IMPORT | BW95: {dc30183c-db91-44c0-b7d6-def2c477578b} | BX95: {c634e916-e5e0-4fb8-885a-a66370a39176} | CL95: 822596 | CM95: 0
D96: 02 | J96: Výstavba chodníkov na Ukrajinskej | AG96: =ROUND(SUM(AG97:AG98),2) -> 0 | AN96: =SUM(AG96,AT96) -> 0 | AQ96: STA | AS96: =ROUND(SUM(AS97:AS98),2) -> 0 | AT96: =ROUND(SUM(AV96:AW96),2) -> 0 | AU96: =ROUND(SUM(AU97:AU98),5) -> 0 | AV96: =ROUND(AZ96*L29,2) -> 0 | AW96: =ROUND(BA96*L30,2) -> 0 | AX96: =ROUND(BB96*L29,2) -> 0 | AY96: =ROUND(BC96*L30,2) -> 0 | AZ96: =ROUND(SUM(AZ97:AZ98),2) -> 0 | BA96: =ROUND(SUM(BA97:BA98),2) -> 0 | BB96: =ROUND(SUM(BB97:BB98),2) -> 0 | BC96: =ROUND(SUM(BC97:BC98),2) -> 0 | BD96: =ROUND(SUM(BD97:BD98),2) -> 0 | BS96: D | BT96: 1 | BU96: ###NOIMPORT### | BV96: IMPORT | BW96: {08e37655-5c00-4828-9db8-e104fa0a76ea} | BX96: {c634e916-e5e0-4fb8-885a-a66370a39176} | CM96: 0
A97: / | E97: Časť 4 | K97: Ukrajinská od Banisegy po most cez Hornád | AG97: ='Časť 4 - Ukrajinská od Ba...'!J34 -> 0 | AN97: =SUM(AG97,AT97) -> 0 | AQ97: Časť | AS97: 0 | AT97: =ROUND(SUM(AV97:AW97),2) -> 0 | AU97: ='Časť 4 - Ukrajinská od Ba...'!P142 -> 0 | AV97: ='Časť 4 - Ukrajinská od Ba...'!J37 -> 0 | AW97: ='Časť 4 - Ukrajinská od Ba...'!J38 -> 0 | AX97: ='Časť 4 - Ukrajinská od Ba...'!J39 -> 0 | AY97: ='Časť 4 - Ukrajinská od Ba...'!J40 -> 0 | AZ97: ='Časť 4 - Ukrajinská od Ba...'!F37 -> 0 | BA97: ='Časť 4 - Ukrajinská od Ba...'!F38 -> 0 | BB97: ='Časť 4 - Ukrajinská od Ba...'!F39 -> 0 | BC97: ='Časť 4 - Ukrajinská od Ba...'!F40 -> 0 | BD97: ='Časť 4 - Ukrajinská od Ba...'!F41 -> 0 | BT97: 2 | BV97: IMPORT | BW97: {b4efcaf6-5a7f-40a1-bcc5-ec8f7cb0e73d} | BX97: {08e37655-5c00-4828-9db8-e104fa0a76ea}
A98: / | E98: Časť 5 | K98: Ukrajinská od mostu cez Hornád po Átrium | AG98: ='Časť 5 - Ukrajinská od mo...'!J34 -> 0 | AN98: =SUM(AG98,AT98) -> 0 | AQ98: Časť | AS98: 0 | AT98: =ROUND(SUM(AV98:AW98),2) -> 0 | AU98: ='Časť 5 - Ukrajinská od mo...'!P142 -> 0 | AV98: ='Časť 5 - Ukrajinská od mo...'!J37 -> 0 | AW98: ='Časť 5 - Ukrajinská od mo...'!J38 -> 0 | AX98: ='Časť 5 - Ukrajinská od mo...'!J39 -> 0 | AY98: ='Časť 5 - Ukrajinská od mo...'!J40 -> 0 | AZ98: ='Časť 5 - Ukrajinská od mo...'!F37 -> 0 | BA98: ='Časť 5 - Ukrajinská od mo...'!F38 -> 0 | BB98: ='Časť 5 - Ukrajinská od mo...'!F39 -> 0 | BC98: ='Časť 5 - Ukrajinská od mo...'!F40 -> 0 | BD98: ='Časť 5 - Ukrajinská od mo...'!F41 -> 0 | BT98: 2 | BV98: IMPORT | BW98: {589de97d-d6d0-4898-a74a-c5dd4576b7b7} | BX98: {08e37655-5c00-4828-9db8-e104fa0a76ea}

Sheet 01 - Rekonštrukcia chodní...
L2: >> skryté stĺpce << | AT2: {dc30183c-db91-44c0-b7d6-def2c477578b}
AT3: 0
D4: KRYCÍ LIST ROZPOČTU | M4: v --- nižšie sa nachádzajú doplnkové a pomocné údaje k zostavám --- v | AT4: False
D6: Stavba:
E7: ='Rekapitulácia stavby'!K6 -> Miestne komunikácie Krásna
D8: Objekt:
E9: 01 - Rekonštrukcia chodníka - Ulica k Majeru
D11: JKSO: | F11: 822596 | I11: ČS:
D12: Miesto: | F12: Mestská časť Košice - Krásna | I12: Dátum: | J12: ='Rekapitulácia stavby'!AN8 -> 4. 3. 2026
D14: Objednávateľ: | I14: IČO:
E15: Mestská časť Košice - Krásna, Opátska18, Košice | I15: IČ DPH:
D17: Zhotoviteľ: | I17: IČO: | J17: ='Rekapitulácia stavby'!AN13 -> Vyplň údaj
E18: ='Rekapitulácia stavby'!E14 -> Vyplň údaj | I18: IČ DPH: | J18: ='Rekapitulácia stavby'!AN14 -> Vyplň údaj
D20: Projektant: | I20: IČO: | J20: =IF('Rekapitulácia stavby'!AN16="","",'Rekapitulácia stavby'!AN16)
E21: =IF('Rekapitulácia stavby'!E17="","",'Rekapitulácia stavby'!E17) | I21: IČ DPH: | J21: =IF('Rekapitulácia stavby'!AN17="","",'Rekapitulácia stavby'!AN17)
D23: Spracovateľ: | I23: IČO: | J23: =IF('Rekapitulácia stavby'!AN19="","",'Rekapitulácia stavby'!AN19)
E24: =IF('Rekapitulácia stavby'!E20="","",'Rekapitulácia stavby'!E20) | I24: IČ DPH: | J24: =IF('Rekapitulácia stavby'!AN20="","",'Rekapitulácia stavby'!AN20)
D26: Poznámka:
D30: Náklady z rozpočtu | J30: =J96 -> 0
D31: Ostatné náklady | J31: =J109 -> 0
D32: Cena bez DPH | J32: =ROUND(J30 + J31, 2) -> 0
F34: Základ dane | I34: Sadzba dane | J34: Výška dane
D35: DPH | E35: základná | F35: =ROUND((SUM(BE109:BE116) + SUM(BE136:BE209)), 2) -> 0 | I35: 0.23 | J35: =ROUND(((SUM(BE109:BE116) + SUM(BE136:BE209))*I35), 2) -> 0
E36: znížená | F36: =ROUND((SUM(BF109:BF116) + SUM(BF136:BF209)), 2) -> 0 | I36: 0.23 | J36: =ROUND(((SUM(BF109:BF116) + SUM(BF136:BF209))*I36), 2) -> 0
E37: zákl. prenesená | F37: =ROUND((SUM(BG109:BG116) + SUM(BG136:BG209)), 2) -> 0 | I37: 0.23 | J37: =0 -> 0
E38: zníž. prenesená | F38: =ROUND((SUM(BH109:BH116) + SUM(BH136:BH209)), 2) -> 0 | I38: 0.23 | J38: =0 -> 0
E39: nulová | F39: =ROUND((SUM(BI109:BI116) + SUM(BI136:BI209)), 2) -> 0 | I39: 0 | J39: =0 -> 0
D41: Cena s DPH | G41: v | H41: EUR | J41: =SUM(J32:J39) -> 0
D50: Projektant | G50: Spracovateľ
D61: Dátum a podpis: | F61: Pečiatka | G61: Dátum a podpis: | J61: Pečiatka
D65: Objednávateľ | G65: Zhotoviteľ
D76: Dátum a podpis: | F76: Pečiatka | G76: Dátum a podpis: | J76: Pečiatka
C82: REKAPITULÁCIA ROZPOČTU
C84: Stavba:
E85: =E7 -> Miestne komunikácie Krásna
C86: Objekt:
E87: =E9 -> 01 - Rekonštrukcia chodníka - Ulica k Majeru
C89: Miesto: | F89: =F12 -> Mestská časť Košice - Krásna | I89: Dátum: | J89: =IF(J12="","",J12) -> 4. 3. 2026
C91: Objednávateľ: | F91: =E15 -> Mestská časť Košice - Krásna, Opátska18, Košice | I91: Projektant: | J91: =E21
C92: Zhotoviteľ: | F92: =IF(E18="","",E18) -> Vyplň údaj | I92: Spracovateľ: | J92: =E24
C94: Kód dielu - Popis | J94: Cena celkom [EUR]
C96: 1) Náklady z rozpočtu | J96: =J136 -> 0 | AU96: -1
D97: D1 - PRÁCE A DODÁVKY HSV | J97: =J137 -> 0
D98: 1 - ZEMNE PRÁCE | J98: =J138 -> 0
D99: 2 - ZÁKLADY | J99: =J150 -> 0
D100: 3 - ZVISLÉ A KOMPLETNÉ KONŠTRUKCIE | J100: =J157 -> 0
D101: 5 - KOMUNIKÁCIE | J101: =J159 -> 0
D102: 8 - RÚROVÉ VEDENIA | J102: =J171 -> 0
D103: 9 - OSTATNÉ KONŠTRUKCIE A PRÁCE | J103: =J175 -> 0
D104: D2 - PRÁCE A DODÁVKY PSV | J104: =J203 -> 0
D105: 767 - Konštrukcie doplnk. kovové stavebné | J105: =J204 -> 0
D106: 783 - Nátery | J106: =J207 -> 0
C109: 2) Ostatné náklady | J109: =ROUND(J110 + J111 + J112 + J113 + J114 + J115,2) -> 0 | N109: DPH
D110: GZS | J110: 0 | N110: znížená | AY110: VRN | BE110: =IF(N110="základná",J110,0) -> 0 | BF110: =IF(N110="znížená",J110,0) -> 0 | BG110: =IF(N110="zákl. prenesená",J110,0) -> 0 | BH110: =IF(N110="zníž. prenesená",J110,0) -> 0 | BI110: =IF(N110="nulová",J110,0) -> 0 | BJ110: 2
D111: Projektové práce | J111: 0 | N111: znížená | AY111: VRN | BE111: =IF(N111="základná",J111,0) -> 0 | BF111: =IF(N111="znížená",J111,0) -> 0 | BG111: =IF(N111="zákl. prenesená",J111,0) -> 0 | BH111: =IF(N111="zníž. prenesená",J111,0) -> 0 | BI111: =IF(N111="nulová",J111,0) -> 0 | BJ111: 2
D112: Sťažené podmienky | J112: 0 | N112: znížená | AY112: VRN | BE112: =IF(N112="základná",J112,0) -> 0 | BF112: =IF(N112="znížená",J112,0) -> 0 | BG112: =IF(N112="zákl. prenesená",J112,0) -> 0 | BH112: =IF(N112="zníž. prenesená",J112,0) -> 0 | BI112: =IF(N112="nulová",J112,0) -> 0 | BJ112: 2
D113: Vplyv prostredia | J113: 0 | N113: znížená | AY113: VRN | BE113: =IF(N113="základná",J113,0) -> 0 | BF113: =IF(N113="znížená",J113,0) -> 0 | BG113: =IF(N113="zákl. prenesená",J113,0) -> 0 | BH113: =IF(N113="zníž. prenesená",J113,0) -> 0 | BI113: =IF(N113="nulová",J113,0) -> 0 | BJ113: 2
D114: Iné VRN | J114: 0 | N114: znížená | AY114: VRN | BE114: =IF(N114="základná",J114,0) -> 0 | BF114: =IF(N114="znížená",J114,0) -> 0 | BG114: =IF(N114="zákl. prenesená",J114,0) -> 0 | BH114: =IF(N114="zníž. prenesená",J114,0) -> 0 | BI114: =IF(N114="nulová",J114,0) -> 0 | BJ114: 2
D115: Kompletačná činnosť | J115: =ROUND(J30*T115,2) -> 0 | N115: znížená | AY115: KOMPLETACNA | BE115: =IF(N115="základná",J115,0) -> 0 | BF115: =IF(N115="znížená",J115,0) -> 0 | BG115: =IF(N115="zákl. prenesená",J115,0) -> 0 | BH115: =IF(N115="zníž. prenesená",J115,0) -> 0 | BI115: =IF(N115="nulová",J115,0) -> 0 | BJ115: 2
C117: Celkové náklady za stavbu 1) + 2) | J117: =ROUND(J96+J109,2) -> 0
C123: ROZPOČET
C125: Stavba:
E126: =E7 -> Miestne komunikácie Krásna
C127: Objekt:
E128: =E9 -> 01 - Rekonštrukcia chodníka - Ulica k Majeru
C130: Miesto: | F130: =F12 -> Mestská časť Košice - Krásna | I130: Dátum: | J130: =IF(J12="","",J12) -> 4. 3. 2026
C132: Objednávateľ: | F132: =E15 -> Mestská časť Košice - Krásna, Opátska18, Košice | I132: Projektant: | J132: =E21
C133: Zhotoviteľ: | F133: =IF(E18="","",E18) -> Vyplň údaj | I133: Spracovateľ: | J133: =E24
C135: PČ | D135: Typ | E135: Kód | F135: Popis | G135: MJ | H135: Množstvo | I135: J.cena [EUR] | J135: Cena celkom [EUR] | K135: Cenová sústava | N135: DPH | O135: J. Nh [h] | P135: Nh celkom [h] | Q135: J. hmotnosť [t] | R135: Hmotnosť celkom [t] | S135: J. suť [t] | T135: Suť Celkom [t]
C136: Náklady z rozpočtu | J136: =BK136 -> 0 | P136: =P137+P203 -> 0 | R136: =R137+R203 -> 549.26648 | T136: =T137+T203 -> 205.442 | AT136: D | AU136: -1 | BK136: =BK137+BK203 -> 0
D137: D | E137: D1 | F137: PRÁCE A DODÁVKY HSV | J137: =BK137 -> 0 | P137: =P138+P150+P157+P159+P171+P175 -> 0 | R137: =R138+R150+R157+R159+R171+R175 -> 549.17308 | T137: =T138+T150+T157+T159+T171+T175 -> 205.442 | AR137: 1 | AT137: D | AU137: 0 | AY137: ROZPOCET | BK137: =BK138+BK150+BK157+BK159+BK171+BK175 -> 0
D138: D | E138: 1 | F138: ZEMNE PRÁCE | J138: =BK138 -> 0 | P138: =SUM(P139:P149) -> 0 | R138: =SUM(R139:R149) -> 0 | T138: =SUM(T139:T149) -> 199.763 | AR138: 1 | AT138: D | AU138: 1 | AY138: ROZPOCET | BK138: =SUM(BK139:BK149) -> 0
C139: 1 | D139: K | E139: 113106511 | F139: Rozobratie dlažby vozov. z cestných panelov, lôžko z kameniva nad 200 m2 | G139: m2 | H139: 455 | J139: =ROUND(I139*H139,2) -> 0 | N139: znížená | P139: =O139*H139 -> 0 | Q139: 0 | R139: =Q139*H139 -> 0 | S139: 0.417 | T139: =S139*H139 -> 189.735 | AR139: 4 | AT139: K | AU139: 2 | AY139: ROZPOCET | BE139: =IF(N139="základná",J139,0) -> 0 | BF139: =IF(N139="znížená",J139,0) -> 0 | BG139: =IF(N139="zákl. prenesená",J139,0) -> 0 | BH139: =IF(N139="zníž. prenesená",J139,0) -> 0 | BI139: =IF(N139="nulová",J139,0) -> 0 | BJ139: 2 | BK139: =ROUND(I139*H139,2) -> 0 | BL139: 4 | BM139: 2
C140: 2 | D140: K | E140: 113107122 | F140: Odstránenie podkladov alebo krytov z kameniva drv. hr. 100-200 mm, do 200 m2 | G140: m2 | H140: 4 | J140: =ROUND(I140*H140,2) -> 0 | N140: znížená | P140: =O140*H140 -> 0 | Q140: 0 | R140: =Q140*H140 -> 0 | S140: 0.235 | T140: =S140*H140 -> 0.94 | AR140: 4 | AT140: K | AU140: 2 | AY140: ROZPOCET | BE140: =IF(N140="základná",J140,0) -> 0 | BF140: =IF(N140="znížená",J140,0) -> 0 | BG140: =IF(N140="zákl. prenesená",J140,0) -> 0 | BH140: =IF(N140="zníž. prenesená",J140,0) -> 0 | BI140: =IF(N140="nulová",J140,0) -> 0 | BJ140: 2 | BK140: =ROUND(I140*H140,2) -> 0 | BL140: 4 | BM140: 4
C141: 3 | D141: K | E141: 113107130 | F141: Odstránenie podkladov alebo krytov z betónu prost. hr. do 100 mm, do 200 m2 | G141: m2 | H141: 4 | J141: =ROUND(I141*H141,2) -> 0 | N141: znížená | P141: =O141*H141 -> 0 | Q141: 0 | R141: =Q141*H141 -> 0 | S141: 0.16 | T141: =S141*H141 -> 0.64 | AR141: 4 | AT141: K | AU141: 2 | AY141: ROZPOCET | BE141: =IF(N141="základná",J141,0) -> 0 | BF141: =IF(N141="znížená",J141,0) -> 0 | BG141: =IF(N141="zákl. prenesená",J141,0) -> 0 | BH141: =IF(N141="zníž. prenesená",J141,0) -> 0 | BI141: =IF(N141="nulová",J141,0) -> 0 | BJ141: 2 | BK141: =ROUND(I141*H141,2) -> 0 | BL141: 4 | BM141: 6
C142: 4 | D142: K | E142: 113151114 | F142: Frézovanie živ. krytu hr. do 50 mm, š. do 750 mm alebo do 500 m2 | G142: m2 | H142: 66 | J142: =ROUND(I142*H142,2) -> 0 | N142: znížená | P142: =O142*H142 -> 0 | Q142: 0 | R142: =Q142*H142 -> 0 | S142: 0.128 | T142: =S142*H142 -> 8.448 | AR142: 4 | AT142: K | AU142: 2 | AY142: ROZPOCET | BE142: =IF(N142="základná",J142,0) -> 0 | BF142: =IF(N142="znížená",J142,0) -> 0 | BG142: =IF(N142="zákl. prenesená",J142,0) -> 0 | BH142: =IF(N142="zníž. prenesená",J142,0) -> 0 | BI142: =IF(N142="nulová",J142,0) -> 0 | BJ142: 2 | BK142: =ROUND(I142*H142,2) -> 0 | BL142: 4 | BM142: 8
C143: 5 | D143: K | E143: 122201102 | F143: Odkopávky a prekopávky nezapaž. v horn. tr. 3 nad 100 do 1 000 m3 | G143: m3 | H143: 102 | J143: =ROUND(I143*H143,2) -> 0 | N143: znížená | P143: =O143*H143 -> 0 | Q143: 0 | R143: =Q143*H143 -> 0 | S143: 0 | T143: =S143*H143 -> 0 | AR143: 4 | AT143: K | AU143: 2 | AY143: ROZPOCET | BE143: =IF(N143="základná",J143,0) -> 0 | BF143: =IF(N143="znížená",J143,0) -> 0 | BG143: =IF(N143="zákl. prenesená",J143,0) -> 0 | BH143: =IF(N143="zníž. prenesená",J143,0) -> 0 | BI143: =IF(N143="nulová",J143,0) -> 0 | BJ143: 2 | BK143: =ROUND(I143*H143,2) -> 0 | BL143: 4 | BM143: 10
C144: 6 | D144: K | E144: 122201109 | F144: Príplatok za lepivosť horniny tr.3 | G144: m3 | H144: 102 | J144: =ROUND(I144*H144,2) -> 0 | N144: znížená | P144: =O144*H144 -> 0 | Q144: 0 | R144: =Q144*H144 -> 0 | S144: 0 | T144: =S144*H144 -> 0 | AR144: 4 | AT144: K | AU144: 2 | AY144: ROZPOCET | BE144: =IF(N144="základná",J144,0) -> 0 | BF144: =IF(N144="znížená",J144,0) -> 0 | BG144: =IF(N144="zákl. prenesená",J144,0) -> 0 | BH144: =IF(N144="zníž. prenesená",J144,0) -> 0 | BI144: =IF(N144="nulová",J144,0) -> 0 | BJ144: 2 | BK144: =ROUND(I144*H144,2) -> 0 | BL144: 4 | BM144: 12
C145: 7 | D145: K | E145: 132201101 | F145: Hĺbenie rýh šírka do 60 cm v horn. tr. 3 do 100 m3 | G145: m3 | H145: 2.98 | J145: =ROUND(I145*H145,2) -> 0 | N145: znížená | P145: =O145*H145 -> 0 | Q145: 0 | R145: =Q145*H145 -> 0 | S145: 0 | T145: =S145*H145 -> 0 | AR145: 4 | AT145: K | AU145: 2 | AY145: ROZPOCET | BE145: =IF(N145="základná",J145,0) -> 0 | BF145: =IF(N145="znížená",J145,0) -> 0 | BG145: =IF(N145="zákl. prenesená",J145,0) -> 0 | BH145: =IF(N145="zníž. prenesená",J145,0) -> 0 | BI145: =IF(N145="nulová",J145,0) -> 0 | BJ145: 2 | BK145: =ROUND(I145*H145,2) -> 0 | BL145: 4 | BM145: 14
C146: 8 | D146: K | E146: 132201110 | F146: Príplatok za lepivosť horniny tr. 3 v rýhach š. do 60 cm s urovnaním dna | G146: m3 | H146: 2.98 | J146: =ROUND(I146*H146,2) -> 0 | N146: znížená | P146: =O146*H146 -> 0 | Q146: 0 | R146: =Q146*H146 -> 0 | S146: 0 | T146: =S146*H146 -> 0 | AR146: 4 | AT146: K | AU146: 2 | AY146: ROZPOCET | BE146: =IF(N146="základná",J146,0) -> 0 | BF146: =IF(N146="znížená",J146,0) -> 0 | BG146: =IF(N146="zákl. prenesená",J146,0) -> 0 | BH146: =IF(N146="zníž. prenesená",J146,0) -> 0 | BI146: =IF(N146="nulová",J146,0) -> 0 | BJ146: 2 | BK146: =ROUND(I146*H146,2) -> 0 | BL146: 4 | BM146: 16
C147: 9 | D147: K | E147: 162501101 | F147: Vodorovné premiestnenie výkopu do 2500 m horn. tr. 1-4 | G147: m3 | H147: 104.98 | J147: =ROUND(I147*H147,2) -> 0 | N147: znížená | P147: =O147*H147 -> 0 | Q147: 0 | R147: =Q147*H147 -> 0 | S147: 0 | T147: =S147*H147 -> 0 | AR147: 4 | AT147: K | AU147: 2 | AY147: ROZPOCET | BE147: =IF(N147="základná",J147,0) -> 0 | BF147: =IF(N147="znížená",J147,0) -> 0 | BG147: =IF(N147="zákl. prenesená",J147,0) -> 0 | BH147: =IF(N147="zníž. prenesená",J147,0) -> 0 | BI147: =IF(N147="nulová",J147,0) -> 0 | BJ147: 2 | BK147: =ROUND(I147*H147,2) -> 0 | BL147: 4 | BM147: 18
C148: 10 | D148: K | E148: 167101102 | F148: Nakladanie výkopku nad 100 m3 v horn. tr. 1-4 | G148: m3 | H148: 105.984 | J148: =ROUND(I148*H148,2) -> 0 | N148: znížená | P148: =O148*H148 -> 0 | Q148: 0 | R148: =Q148*H148 -> 0 | S148: 0 | T148: =S148*H148 -> 0 | AR148: 4 | AT148: K | AU148: 2 | AY148: ROZPOCET | BE148: =IF(N148="základná",J148,0) -> 0 | BF148: =IF(N148="znížená",J148,0) -> 0 | BG148: =IF(N148="zákl. prenesená",J148,0) -> 0 | BH148: =IF(N148="zníž. prenesená",J148,0) -> 0 | BI148: =IF(N148="nulová",J148,0) -> 0 | BJ148: 2 | BK148: =ROUND(I148*H148,2) -> 0 | BL148: 4 | BM148: 20
C149: 11 | D149: K | E149: 181101102 | F149: Úprava pláne v zárezoch v horn. tr. 1-4 so zhutnením | G149: m2 | H149: 737 | J149: =ROUND(I149*H149,2) -> 0 | N149: znížená | P149: =O149*H149 -> 0 | Q149: 0 | R149: =Q149*H149 -> 0 | S149: 0 | T149: =S149*H149 -> 0 | AR149: 4 | AT149: K | AU149: 2 | AY149: ROZPOCET | BE149: =IF(N149="základná",J149,0) -> 0 | BF149: =IF(N149="znížená",J149,0) -> 0 | BG149: =IF(N149="zákl. prenesená",J149,0) -> 0 | BH149: =IF(N149="zníž. prenesená",J149,0) -> 0 | BI149: =IF(N149="nulová",J149,0) -> 0 | BJ149: 2 | BK149: =ROUND(I149*H149,2) -> 0 | BL149: 4 | BM149: 22
D150: D | E150: 2 | F150: ZÁKLADY | J150: =BK150 -> 0 | P150: =SUM(P151:P156) -> 0 | R150: =SUM(R151:R156) -> 19.467765 | T150: =SUM(T151:T156) -> 0 | AR150: 1 | AT150: D | AU150: 1 | AY150: ROZPOCET | BK150: =SUM(BK151:BK156) -> 0
C151: 12 | D151: K | E151: 271571111 | F151: Vankúš pod základy zo štrkopiesku triedeného | G151: m3 | H151: 3.59 | J151: =ROUND(I151*H151,2) -> 0 | N151: znížená | P151: =O151*H151 -> 0 | Q151: 1.93971 | R151: =Q151*H151 -> 6.9635589 | S151: 0 | T151: =S151*H151 -> 0 | AR151: 4 | AT151: K | AU151: 2 | AY151: ROZPOCET | BE151: =IF(N151="základná",J151,0) -> 0 | BF151: =IF(N151="znížená",J151,0) -> 0 | BG151: =IF(N151="zákl. prenesená",J151,0) -> 0 | BH151: =IF(N151="zníž. prenesená",J151,0) -> 0 | BI151: =IF(N151="nulová",J151,0) -> 0 | BJ151: 2 | BK151: =ROUND(I151*H151,2) -> 0 | BL151: 4 | BM151: 24
C152: 13 | D152: K | E152: 273321411 | F152: Základové dosky zo železobetónu tr. C25/30 | G152: m3 | H152: 2.925 | J152: =ROUND(I152*H152,2) -> 0 | N152: znížená | P152: =O152*H152 -> 0 | Q152: 2.23706 | R152: =Q152*H152 -> 6.5434005 | S152: 0 | T152: =S152*H152 -> 0 | AR152: 4 | AT152: K | AU152: 2 | AY152: ROZPOCET | BE152: =IF(N152="základná",J152,0) -> 0 | BF152: =IF(N152="znížená",J152,0) -> 0 | BG152: =IF(N152="zákl. prenesená",J152,0) -> 0 | BH152: =IF(N152="zníž. prenesená",J152,0) -> 0 | BI152: =IF(N152="nulová",J152,0) -> 0 | BJ152: 2 | BK152: =ROUND(I152*H152,2) -> 0 | BL152: 4 | BM152: 26
C153: 14 | D153: K | E153: 273361411 | F153: Výstuž dosiek zo zvarovaných sietí | G153: t | H153: 0.117 | J153: =ROUND(I153*H153,2) -> 0 | N153: znížená | P153: =O153*H153 -> 0 | Q153: 1.17134 | R153: =Q153*H153 -> 0.13704678 | S153: 0 | T153: =S153*H153 -> 0 | AR153: 4 | AT153: K | AU153: 2 | AY153: ROZPOCET | BE153: =IF(N153="základná",J153,0) -> 0 | BF153: =IF(N153="znížená",J153,0) -> 0 | BG153: =IF(N153="zákl. prenesená",J153,0) -> 0 | BH153: =IF(N153="zníž. prenesená",J153,0) -> 0 | BI153: =IF(N153="nulová",J153,0) -> 0 | BJ153: 2 | BK153: =ROUND(I153*H153,2) -> 0 | BL153: 4 | BM153: 28
C154: 15 | D154: K | E154: 274311117 | F154: Základové pásy mostných konštrukcií z betónu prostého tr. C 25/30 cement portlanský | G154: m3 | H154: 2.295 | J154: =ROUND(I154*H154,2) -> 0 | N154: znížená | P154: =O154*H154 -> 0 | Q154: 2.50552 | R154: =Q154*H154 -> 5.7501684 | S154: 0 | T154: =S154*H154 -> 0 | AR154: 4 | AT154: K | AU154: 2 | AY154: ROZPOCET | BE154: =IF(N154="základná",J154,0) -> 0 | BF154: =IF(N154="znížená",J154,0) -> 0 | BG154: =IF(N154="zákl. prenesená",J154,0) -> 0 | BH154: =IF(N154="zníž. prenesená",J154,0) -> 0 | BI154: =IF(N154="nulová",J154,0) -> 0 | BJ154: 2 | BK154: =ROUND(I154*H154,2) -> 0 | BL154: 4 | BM154: 30
C155: 16 | D155: K | E155: 274351215 | F155: Debnenie základových pásov zhotovenie | G155: m2 | H155: 33 | J155: =ROUND(I155*H155,2) -> 0 | N155: znížená | P155: =O155*H155 -> 0 | Q155: 0.00223 | R155: =Q155*H155 -> 0.07359 | S155: 0 | T155: =S155*H155 -> 0 | AR155: 4 | AT155: K | AU155: 2 | AY155: ROZPOCET | BE155: =IF(N155="základná",J155,0) -> 0 | BF155: =IF(N155="znížená",J155,0) -> 0 | BG155: =IF(N155="zákl. prenesená",J155,0) -> 0 | BH155: =IF(N155="zníž. prenesená",J155,0) -> 0 | BI155: =IF(N155="nulová",J155,0) -> 0 | BJ155: 2 | BK155: =ROUND(I155*H155,2) -> 0 | BL155: 4 | BM155: 32
C156: 17 | D156: K | E156: 274351216 | F156: Debnenie základových pásov odstránenie | G156: m2 | H156: 33 | J156: =ROUND(I156*H156,2) -> 0 | N156: znížená | P156: =O156*H156 -> 0 | Q156: 0 | R156: =Q156*H156 -> 0 | S156: 0 | T156: =S156*H156 -> 0 | AR156: 4 | AT156: K | AU156: 2 | AY156: ROZPOCET | BE156: =IF(N156="základná",J156,0) -> 0 | BF156: =IF(N156="znížená",J156,0) -> 0 | BG156: =IF(N156="zákl. prenesená",J156,0) -> 0 | BH156: =IF(N156="zníž. prenesená",J156,0) -> 0 | BI156: =IF(N156="nulová",J156,0) -> 0 | BJ156: 2 | BK156: =ROUND(I156*H156,2) -> 0 | BL156: 4 | BM156: 34
D157: D | E157: 3 | F157: ZVISLÉ A KOMPLETNÉ KONŠTRUKCIE | J157: =BK157 -> 0 | P157: =P158 -> 0 | R157: =R158 -> 0.019352 | T157: =T158 -> 0 | AR157: 1 | AT157: D | AU157: 1 | AY157: ROZPOCET | BK157: =BK158 -> 0
C158: 18 | D158: K | E158: 348171111 | F158: Osadenie zábradlia oceľového do 100 kg/m | G158: m | H158: 5.9 | J158: =ROUND(I158*H158,2) -> 0 | N158: znížená | P158: =O158*H158 -> 0 | Q158: 0.00328 | R158: =Q158*H158 -> 0.019352 | S158: 0 | T158: =S158*H158 -> 0 | AR158: 4 | AT158: K | AU158: 2 | AY158: ROZPOCET | BE158: =IF(N158="základná",J158,0) -> 0 | BF158: =IF(N158="znížená",J158,0) -> 0 | BG158: =IF(N158="zákl. prenesená",J158,0) -> 0 | BH158: =IF(N158="zníž. prenesená",J158,0) -> 0 | BI158: =IF(N158="nulová",J158,0) -> 0 | BJ158: 2 | BK158: =ROUND(I158*H158,2) -> 0 | BL158: 4 | BM158: 36
D159: D | E159: 5 | F159: KOMUNIKÁCIE | J159: =BK159 -> 0 | P159: =SUM(P160:P170) -> 0 | R159: =SUM(R160:R170) -> 279.30036 | T159: =SUM(T160:T170) -> 0 | AR159: 1 | AT159: D | AU159: 1 | AY159: ROZPOCET | BK159: =SUM(BK160:BK170) -> 0
C160: 19 | D160: K | E160: 564761111 | F160: Podklad z vibrovaného štrku hr. 200 mm | G160: m2 | H160: 12 | J160: =ROUND(I160*H160,2) -> 0 | N160: znížená | P160: =O160*H160 -> 0 | Q160: 0.38625 | R160: =Q160*H160 -> 4.635 | S160: 0 | T160: =S160*H160 -> 0 | AR160: 4 | AT160: K | AU160: 2 | AY160: ROZPOCET | BE160: =IF(N160="základná",J160,0) -> 0 | BF160: =IF(N160="znížená",J160,0) -> 0 | BG160: =IF(N160="zákl. prenesená",J160,0) -> 0 | BH160: =IF(N160="zníž. prenesená",J160,0) -> 0 | BI160: =IF(N160="nulová",J160,0) -> 0 | BJ160: 2 | BK160: =ROUND(I160*H160,2) -> 0 | BL160: 4 | BM160: 38
C161: 20 | D161: K | E161: 564861111 | F161: Podklad zo štrkodrte hr. 200 mm | G161: m2 | H161: 449 | J161: =ROUND(I161*H161,2) -> 0 | N161: znížená | P161: =O161*H161 -> 0 | Q161: 0.3708 | R161: =Q161*H161 -> 166.4892 | S161: 0 | T161: =S161*H161 -> 0 | AR161: 4 | AT161: K | AU161: 2 | AY161: ROZPOCET | BE161: =IF(N161="základná",J161,0) -> 0 | BF161: =IF(N161="znížená",J161,0) -> 0 | BG161: =IF(N161="zákl. prenesená",J161,0) -> 0 | BH161: =IF(N161="zníž. prenesená",J161,0) -> 0 | BI161: =IF(N161="nulová",J161,0) -> 0 | BJ161: 2 | BK161: =ROUND(I161*H161,2) -> 0 | BL161: 4 | BM161: 40
C162: 21 | D162: K | E162: 565211311 | F162: Podklad z betónového recyklátu hr. 40 mm | G162: m2 | H162: 437 | J162: =ROUND(I162*H162,2) -> 0 | N162: znížená | P162: =O162*H162 -> 0 | Q162: 0 | R162: =Q162*H162 -> 0 | S162: 0 | T162: =S162*H162 -> 0 | AR162: 4 | AT162: K | AU162: 2 | AY162: ROZPOCET | BE162: =IF(N162="základná",J162,0) -> 0 | BF162: =IF(N162="znížená",J162,0) -> 0 | BG162: =IF(N162="zákl. prenesená",J162,0) -> 0 | BH162: =IF(N162="zníž. prenesená",J162,0) -> 0 | BI162: =IF(N162="nulová",J162,0) -> 0 | BJ162: 2 | BK162: =ROUND(I162*H162,2) -> 0 | BL162: 4 | BM162: 42
C163: 22 | D163: K | E163: 567118113 | F163: Podklad z prostého betónu tr. C 25/30 hr. 100 mm (podklad pod betónové dosky) | G163: m2 | H163: 7.8 | J163: =ROUND(I163*H163,2) -> 0 | N163: znížená | P163: =O163*H163 -> 0 | Q163: 0.24657 | R163: =Q163*H163 -> 1.923246 | S163: 0 | T163: =S163*H163 -> 0 | AR163: 4 | AT163: K | AU163: 2 | AY163: ROZPOCET | BE163: =IF(N163="základná",J163,0) -> 0 | BF163: =IF(N163="znížená",J163,0) -> 0 | BG163: =IF(N163="zákl. prenesená",J163,0) -> 0 | BH163: =IF(N163="zníž. prenesená",J163,0) -> 0 | BI163: =IF(N163="nulová",J163,0) -> 0 | BJ163: 2 | BK163: =ROUND(I163*H163,2) -> 0 | BL163: 4 | BM163: 44
C164: 23 | D164: K | E164: 569811111 | F164: Spevnenie krajníc alebo komunik. štrkodrťou hr. 40 mm | G164: m2 | H164: 72 | J164: =ROUND(I164*H164,2) -> 0 | N164: znížená | P164: =O164*H164 -> 0 | Q164: 0.09738 | R164: =Q164*H164 -> 7.01136 | S164: 0 | T164: =S164*H164 -> 0 | AR164: 4 | AT164: K | AU164: 2 | AY164: ROZPOCET | BE164: =IF(N164="základná",J164,0) -> 0 | BF164: =IF(N164="znížená",J164,0) -> 0 | BG164: =IF(N164="zákl. prenesená",J164,0) -> 0 | BH164: =IF(N164="zníž. prenesená",J164,0) -> 0 | BI164: =IF(N164="nulová",J164,0) -> 0 | BJ164: 2 | BK164: =ROUND(I164*H164,2) -> 0 | BL164: 4 | BM164: 46
C165: 24 | D165: K | E165: 573111111 | F165: Postrek živ. infiltračný s posypom kam. z asfaltu 0,6 kg/m2 | G165: m2 | H165: 12 | J165: =ROUND(I165*H165,2) -> 0 | N165: znížená | P165: =O165*H165 -> 0 | Q165: 0.00561 | R165: =Q165*H165 -> 0.06732 | S165: 0 | T165: =S165*H165 -> 0 | AR165: 4 | AT165: K | AU165: 2 | AY165: ROZPOCET | BE165: =IF(N165="základná",J165,0) -> 0 | BF165: =IF(N165="znížená",J165,0) -> 0 | BG165: =IF(N165="zákl. prenesená",J165,0) -> 0 | BH165: =IF(N165="zníž. prenesená",J165,0) -> 0 | BI165: =IF(N165="nulová",J165,0) -> 0 | BJ165: 2 | BK165: =ROUND(I165*H165,2) -> 0 | BL165: 4 | BM165: 48
C166: 25 | D166: K | E166: 573221111 | F166: Postrek živičný spojovací z cestného dechtu 0,5-0,7 kg/m2 | G166: m2 | H166: 12 | J166: =ROUND(I166*H166,2) -> 0 | N166: znížená | P166: =O166*H166 -> 0 | Q166: 0.00061 | R166: =Q166*H166 -> 0.00732 | S166: 0 | T166: =S166*H166 -> 0 | AR166: 4 | AT166: K | AU166: 2 | AY166: ROZPOCET | BE166: =IF(N166="základná",J166,0) -> 0 | BF166: =IF(N166="znížená",J166,0) -> 0 | BG166: =IF(N166="zákl. prenesená",J166,0) -> 0 | BH166: =IF(N166="zníž. prenesená",J166,0) -> 0 | BI166: =IF(N166="nulová",J166,0) -> 0 | BJ166: 2 | BK166: =ROUND(I166*H166,2) -> 0 | BL166: 4 | BM166: 50
...

Sheet Časť 4 - Ukrajinská od Ba...
L2: >> skryté stĺpce << | AT2: {b4efcaf6-5a7f-40a1-bcc5-ec8f7cb0e73d}
AT3: 0
D4: KRYCÍ LIST ROZPOČTU | M4: v --- nižšie sa nachádzajú doplnkové a pomocné údaje k zostavám --- v | AT4: False
D6: Stavba:
E7: ='Rekapitulácia stavby'!K6 -> Miestne komunikácie Krásna
D8: Objekt:
E9: 02 - Výstavba chodníkov na Ukrajinskej a Mozartovej ulici
D10: Časť:
E11: Časť 4 - Ukrajinská od Banisegy po most cez Hornád
D13: JKSO: | I13: ČS:
D14: Miesto: | F14: Mestská časť Košice - Krásna | I14: Dátum: | J14: ='Rekapitulácia stavby'!AN8 -> 4. 3. 2026
D16: Objednávateľ: | I16: IČO:
E17: Mestská časť Košice - Krásna, Opátska18, Košice | I17: IČ DPH:
D19: Zhotoviteľ: | I19: IČO: | J19: ='Rekapitulácia stavby'!AN13 -> Vyplň údaj
E20: ='Rekapitulácia stavby'!E14 -> Vyplň údaj | I20: IČ DPH: | J20: ='Rekapitulácia stavby'!AN14 -> Vyplň údaj
D22: Projektant: | I22: IČO: | J22: =IF('Rekapitulácia stavby'!AN16="","",'Rekapitulácia stavby'!AN16)
E23: =IF('Rekapitulácia stavby'!E17="","",'Rekapitulácia stavby'!E17) | I23: IČ DPH: | J23: =IF('Rekapitulácia stavby'!AN17="","",'Rekapitulácia stavby'!AN17)
D25: Spracovateľ: | I25: IČO: | J25: =IF('Rekapitulácia stavby'!AN19="","",'Rekapitulácia stavby'!AN19)
E26: =IF('Rekapitulácia stavby'!E20="","",'Rekapitulácia stavby'!E20) | I26: IČ DPH: | J26: =IF('Rekapitulácia stavby'!AN20="","",'Rekapitulácia stavby'!AN20)
D28: Poznámka:
D32: Náklady z rozpočtu | J32: =J98 -> 0
D33: Ostatné náklady | J33: =J113 -> 0
D34: Cena bez DPH | J34: =ROUND(J32 + J33, 2) -> 0
F36: Základ dane | I36: Sadzba dane | J36: Výška dane
D37: DPH | E37: základná | F37: =ROUND((SUM(BE113:BE120) + SUM(BE142:BE229)), 2) -> 0 | I37: 0.23 | J37: =ROUND(((SUM(BE113:BE120) + SUM(BE142:BE229))*I37), 2) -> 0
E38: znížená | F38: =ROUND((SUM(BF113:BF120) + SUM(BF142:BF229)), 2) -> 0 | I38: 0.23 | J38: =ROUND(((SUM(BF113:BF120) + SUM(BF142:BF229))*I38), 2) -> 0
E39: zákl. prenesená | F39: =ROUND((SUM(BG113:BG120) + SUM(BG142:BG229)), 2) -> 0 | I39: 0.23 | J39: =0 -> 0
E40: zníž. prenesená | F40: =ROUND((SUM(BH113:BH120) + SUM(BH142:BH229)), 2) -> 0 | I40: 0.23 | J40: =0 -> 0
E41: nulová | F41: =ROUND((SUM(BI113:BI120) + SUM(BI142:BI229)), 2) -> 0 | I41: 0 | J41: =0 -> 0
D43: Cena s DPH | G43: v | H43: EUR | J43: =SUM(J34:J41) -> 0
D50: Projektant | G50: Spracovateľ
D61: Dátum a podpis: | F61: Pečiatka | G61: Dátum a podpis: | J61: Pečiatka
D65: Objednávateľ | G65: Zhotoviteľ
D76: Dátum a podpis: | F76: Pečiatka | G76: Dátum a podpis: | J76: Pečiatka
C82: REKAPITULÁCIA ROZPOČTU
C84: Stavba:
E85: =E7 -> Miestne komunikácie Krásna
C86: Objekt:
E87: 02 - Výstavba chodníkov na Ukrajinskej a Mozartovej ulici
C88: Časť:
E89: =E11 -> Časť 4 - Ukrajinská od Banisegy po most cez Hornád
C91: Miesto: | F91: =F14 -> Mestská časť Košice - Krásna | I91: Dátum: | J91: =IF(J14="","",J14) -> 4. 3. 2026
C93: Objednávateľ: | F93: =E17 -> Mestská časť Košice - Krásna, Opátska18, Košice | I93: Projektant: | J93: =E23
C94: Zhotoviteľ: | F94: =IF(E20="","",E20) -> Vyplň údaj | I94: Spracovateľ: | J94: =E26
C96: Kód dielu - Popis | J96: Cena celkom [EUR]
C98: 1) Náklady z rozpočtu | J98: =J142 -> 0 | AU98: -1
D99: D1 - PRÁCE A DODÁVKY HSV | J99: =J143 -> 0
D100: 1 - ZEMNE PRÁCE | J100: =J144 -> 0
D101: 2 - ZÁKLADY | J101: =J169 -> 0
D102: 3 - ZVISLÉ A KOMPLETNÉ KONŠTRUKCIE | J102: =J183 -> 0
D103: 4 - VODOROVNÉ KONŠTRUKCIE | J103: =J189 -> 0
D104: 5 - KOMUNIKÁCIE | J104: =J193 -> 0
D105: 9 - OSTATNÉ KONŠTRUKCIE A PRÁCE | J105: =J202 -> 0
D106: D2 - PRÁCE A DODÁVKY PSV | J106: =J218 -> 0
D107: 767 - Konštrukcie doplnk. kovové stavebné | J107: =J219 -> 0
D108: 783 - Nátery | J108: =J223 -> 0
D109: D3 - OSTATNÉ | J109: =J227 -> 0
D110: OST - vedľajšie rozpočtové náklady | J110: =J228 -> 0
C113: 2) Ostatné náklady | J113: =ROUND(J114 + J115 + J116 + J117 + J118 + J119,2) -> 0 | N113: DPH
D114: GZS | J114: 0 | N114: znížená | AY114: VRN | BE114: =IF(N114="základná",J114,0) -> 0 | BF114: =IF(N114="znížená",J114,0) -> 0 | BG114: =IF(N114="zákl. prenesená",J114,0) -> 0 | BH114: =IF(N114="zníž. prenesená",J114,0) -> 0 | BI114: =IF(N114="nulová",J114,0) -> 0 | BJ114: 2
D115: Projektové práce | J115: 0 | N115: znížená | AY115: VRN | BE115: =IF(N115="základná",J115,0) -> 0 | BF115: =IF(N115="znížená",J115,0) -> 0 | BG115: =IF(N115="zákl. prenesená",J115,0) -> 0 | BH115: =IF(N115="zníž. prenesená",J115,0) -> 0 | BI115: =IF(N115="nulová",J115,0) -> 0 | BJ115: 2
D116: Sťažené podmienky | J116: 0 | N116: znížená | AY116: VRN | BE116: =IF(N116="základná",J116,0) -> 0 | BF116: =IF(N116="znížená",J116,0) -> 0 | BG116: =IF(N116="zákl. prenesená",J116,0) -> 0 | BH116: =IF(N116="zníž. prenesená",J116,0) -> 0 | BI116: =IF(N116="nulová",J116,0) -> 0 | BJ116: 2
D117: Vplyv prostredia | J117: 0 | N117: znížená | AY117: VRN | BE117: =IF(N117="základná",J117,0) -> 0 | BF117: =IF(N117="znížená",J117,0) -> 0 | BG117: =IF(N117="zákl. prenesená",J117,0) -> 0 | BH117: =IF(N117="zníž. prenesená",J117,0) -> 0 | BI117: =IF(N117="nulová",J117,0) -> 0 | BJ117: 2
D118: Iné VRN | J118: 0 | N118: znížená | AY118: VRN | BE118: =IF(N118="základná",J118,0) -> 0 | BF118: =IF(N118="znížená",J118,0) -> 0 | BG118: =IF(N118="zákl. prenesená",J118,0) -> 0 | BH118: =IF(N118="zníž. prenesená",J118,0) -> 0 | BI118: =IF(N118="nulová",J118,0) -> 0 | BJ118: 2
D119: Kompletačná činnosť | J119: =ROUND(J32*T119,2) -> 0 | N119: znížená | AY119: KOMPLETACNA | BE119: =IF(N119="základná",J119,0) -> 0 | BF119: =IF(N119="znížená",J119,0) -> 0 | BG119: =IF(N119="zákl. prenesená",J119,0) -> 0 | BH119: =IF(N119="zníž. prenesená",J119,0) -> 0 | BI119: =IF(N119="nulová",J119,0) -> 0 | BJ119: 2
C121: Celkové náklady za stavbu 1) + 2) | J121: =ROUND(J98+J113,2) -> 0
C127: ROZPOČET
C129: Stavba:
E130: =E7 -> Miestne komunikácie Krásna
C131: Objekt:
E132: 02 - Výstavba chodníkov na Ukrajinskej a Mozartovej ulici
C133: Časť:
E134: =E11 -> Časť 4 - Ukrajinská od Banisegy po most cez Hornád
C136: Miesto: | F136: =F14 -> Mestská časť Košice - Krásna | I136: Dátum: | J136: =IF(J14="","",J14) -> 4. 3. 2026
C138: Objednávateľ: | F138: =E17 -> Mestská časť Košice - Krásna, Opátska18, Košice | I138: Projektant: | J138: =E23
C139: Zhotoviteľ: | F139: =IF(E20="","",E20) -> Vyplň údaj | I139: Spracovateľ: | J139: =E26
C141: PČ | D141: Typ | E141: Kód | F141: Popis | G141: MJ | H141: Množstvo | I141: J.cena [EUR] | J141: Cena celkom [EUR] | K141: Cenová sústava | N141: DPH | O141: J. Nh [h] | P141: Nh celkom [h] | Q141: J. hmotnosť [t] | R141: Hmotnosť celkom [t] | S141: J. suť [t] | T141: Suť Celkom [t]
C142: Náklady z rozpočtu | J142: =BK142 -> 0 | P142: =P143+P218+P227 -> 0 | R142: =R143+R218+R227 -> 373.73491 | T142: =T143+T218+T227 -> 10.882755 | AT142: D | AU142: -1 | BK142: =BK143+BK218+BK227 -> 0
D143: D | E143: D1 | F143: PRÁCE A DODÁVKY HSV | J143: =BK143 -> 0 | P143: =P144+P169+P183+P189+P193+P202 -> 0 | R143: =R144+R169+R183+R189+R193+R202 -> 372.97626 | T143: =T144+T169+T183+T189+T193+T202 -> 10.882755 | AR143: 1 | AT143: D | AU143: 0 | AY143: ROZPOCET | BK143: =BK144+BK169+BK183+BK189+BK193+BK202 -> 0
D144: D | E144: 1 | F144: ZEMNE PRÁCE | J144: =BK144 -> 0 | P144: =SUM(P145:P168) -> 0 | R144: =SUM(R145:R168) -> 0.010716 | T144: =SUM(T145:T168) -> 10.654875 | AR144: 1 | AT144: D | AU144: 1 | AY144: ROZPOCET | BK144: =SUM(BK145:BK168) -> 0
C145: 1 | D145: K | E145: 120902113 | F145: Búranie betónu železového | G145: m3 | H145: 1.845 | J145: =ROUND(I145*H145,2) -> 0 | N145: znížená | P145: =O145*H145 -> 0 | Q145: 0 | R145: =Q145*H145 -> 0 | S145: 5.775 | T145: =S145*H145 -> 10.654875 | AR145: 4 | AT145: K | AU145: 2 | AY145: ROZPOCET | BE145: =IF(N145="základná",J145,0) -> 0 | BF145: =IF(N145="znížená",J145,0) -> 0 | BG145: =IF(N145="zákl. prenesená",J145,0) -> 0 | BH145: =IF(N145="zníž. prenesená",J145,0) -> 0 | BI145: =IF(N145="nulová",J145,0) -> 0 | BJ145: 2 | BK145: =ROUND(I145*H145,2) -> 0 | BL145: 4 | BM145: 2
C146: 2 | D146: K | E146: 122201101 | F146: Odkopávky a prekopávky nezapaž. v horn. tr. 3 do 100 m3 | G146: m3 | H146: 5.85 | J146: =ROUND(I146*H146,2) -> 0 | N146: znížená | P146: =O146*H146 -> 0 | Q146: 0 | R146: =Q146*H146 -> 0 | S146: 0 | T146: =S146*H146 -> 0 | AR146: 4 | AT146: K | AU146: 2 | AY146: ROZPOCET | BE146: =IF(N146="základná",J146,0) -> 0 | BF146: =IF(N146="znížená",J146,0) -> 0 | BG146: =IF(N146="zákl. prenesená",J146,0) -> 0 | BH146: =IF(N146="zníž. prenesená",J146,0) -> 0 | BI146: =IF(N146="nulová",J146,0) -> 0 | BJ146: 2 | BK146: =ROUND(I146*H146,2) -> 0 | BL146: 4 | BM146: 4
D147: P | F147: Poznámka k položke:_x000D_ hĺbka výkopu = 0,39m_x000D_ plocha výkopu = 15m2_x000D_ celkovo : 0,39*15 = 5,85m3 | AT147: P | AU147: 2
C148: 3 | D148: K | E148: 122201109 | F148: Príplatok za lepivosť horniny tr.3 | G148: m3 | H148: 5.85 | J148: =ROUND(I148*H148,2) -> 0 | N148: znížená | P148: =O148*H148 -> 0 | Q148: 0 | R148: =Q148*H148 -> 0 | S148: 0 | T148: =S148*H148 -> 0 | AR148: 4 | AT148: K | AU148: 2 | AY148: ROZPOCET | BE148: =IF(N148="základná",J148,0) -> 0 | BF148: =IF(N148="znížená",J148,0) -> 0 | BG148: =IF(N148="zákl. prenesená",J148,0) -> 0 | BH148: =IF(N148="zníž. prenesená",J148,0) -> 0 | BI148: =IF(N148="nulová",J148,0) -> 0 | BJ148: 2 | BK148: =ROUND(I148*H148,2) -> 0 | BL148: 4 | BM148: 6
C149: 4 | D149: K | E149: 132201101 | F149: Hĺbenie rýh šírka do 60 cm v horn. tr. 3 do 100 m3 | G149: m3 | H149: 1.68 | J149: =ROUND(I149*H149,2) -> 0 | N149: znížená | P149: =O149*H149 -> 0 | Q149: 0 | R149: =Q149*H149 -> 0 | S149: 0 | T149: =S149*H149 -> 0 | AR149: 4 | AT149: K | AU149: 2 | AY149: ROZPOCET | BE149: =IF(N149="základná",J149,0) -> 0 | BF149: =IF(N149="znížená",J149,0) -> 0 | BG149: =IF(N149="zákl. prenesená",J149,0) -> 0 | BH149: =IF(N149="zníž. prenesená",J149,0) -> 0 | BI149: =IF(N149="nulová",J149,0) -> 0 | BJ149: 2 | BK149: =ROUND(I149*H149,2) -> 0 | BL149: 4 | BM149: 8
D150: P | F150: Poznámka k položke:_x000D_ napojenie na most : 1,5*0,5*0,8 = 0,6m3_x000D_ schodiskové prahy : 1,2*0,5*0,9*2 = 1,08m3_x000D_ celkovo : 0,6+1,08 = 1,68m3 | AT150: P | AU150: 2
C151: 5 | D151: K | E151: 132201109 | F151: Príplatok za lepivosť horniny tr. 3 v rýhach š. do 60 cm | G151: m3 | H151: 1.68 | J151: =ROUND(I151*H151,2) -> 0 | N151: znížená | P151: =O151*H151 -> 0 | Q151: 0 | R151: =Q151*H151 -> 0 | S151: 0 | T151: =S151*H151 -> 0 | AR151: 4 | AT151: K | AU151: 2 | AY151: ROZPOCET | BE151: =IF(N151="základná",J151,0) -> 0 | BF151: =IF(N151="znížená",J151,0) -> 0 | BG151: =IF(N151="zákl. prenesená",J151,0) -> 0 | BH151: =IF(N151="zníž. prenesená",J151,0) -> 0 | BI151: =IF(N151="nulová",J151,0) -> 0 | BJ151: 2 | BK151: =ROUND(I151*H151,2) -> 0 | BL151: 4 | BM151: 10
C152: 6 | D152: K | E152: 132201201 | F152: Hĺbenie rýh šírka do 2 m v horn. tr. 3 do 100 m3 | G152: m3 | H152: 79.68 | J152: =ROUND(I152*H152,2) -> 0 | N152: znížená | P152: =O152*H152 -> 0 | Q152: 0 | R152: =Q152*H152 -> 0 | S152: 0 | T152: =S152*H152 -> 0 | AR152: 4 | AT152: K | AU152: 2 | AY152: ROZPOCET | BE152: =IF(N152="základná",J152,0) -> 0 | BF152: =IF(N152="znížená",J152,0) -> 0 | BG152: =IF(N152="zákl. prenesená",J152,0) -> 0 | BH152: =IF(N152="zníž. prenesená",J152,0) -> 0 | BI152: =IF(N152="nulová",J152,0) -> 0 | BJ152: 2 | BK152: =ROUND(I152*H152,2) -> 0 | BL152: 4 | BM152: 12
D153: P | F153: Poznámka k položke:_x000D_ oporný múr : 0,8*1,4*54 = 60,48m3_x000D_ gabión : 0,8*2,0*12 = 19,2m3_x000D_ celkovo : 60,48+19,2 = 79,68m3 | AT153: P | AU153: 2
C154: 7 | D154: K | E154: 132201209 | F154: Príplatok za lepivosť horniny tr.3 v rýhach š. do 200 cm | G154: m3 | H154: 79.68 | J154: =ROUND(I154*H154,2) -> 0 | N154: znížená | P154: =O154*H154 -> 0 | Q154: 0 | R154: =Q154*H154 -> 0 | S154: 0 | T154: =S154*H154 -> 0 | AR154: 4 | AT154: K | AU154: 2 | AY154: ROZPOCET | BE154: =IF(N154="základná",J154,0) -> 0 | BF154: =IF(N154="znížená",J154,0) -> 0 | BG154: =IF(N154="zákl. prenesená",J154,0) -> 0 | BH154: =IF(N154="zníž. prenesená",J154,0) -> 0 | BI154: =IF(N154="nulová",J154,0) -> 0 | BJ154: 2 | BK154: =ROUND(I154*H154,2) -> 0 | BL154: 4 | BM154: 14
C155: 8 | D155: K | E155: 151101201 | F155: Zhotovenie paženia stien výkopu príložné hl. do 4 m | G155: m2 | H155: 42 | J155: =ROUND(I155*H155,2) -> 0 | N155: znížená | P155: =O155*H155 -> 0 | Q155: 0.00025 | R155: =Q155*H155 -> 0.0105 | S155: 0 | T155: =S155*H155 -> 0 | AR155: 4 | AT155: K | AU155: 2 | AY155: ROZPOCET | BE155: =IF(N155="základná",J155,0) -> 0 | BF155: =IF(N155="znížená",J155,0) -> 0 | BG155: =IF(N155="zákl. prenesená",J155,0) -> 0 | BH155: =IF(N155="zníž. prenesená",J155,0) -> 0 | BI155: =IF(N155="nulová",J155,0) -> 0 | BJ155: 2 | BK155: =ROUND(I155*H155,2) -> 0 | BL155: 4 | BM155: 16
D156: P | F156: Poznámka k položke:_x000D_ (1,5*12)+(2,0*12) = 42m2 | AT156: P | AU156: 2
C157: 9 | D157: K | E157: 151101211 | F157: Odstránenie paženia stien výkopu príložné hl. do 4 m | G157: m2 | H157: 42 | J157: =ROUND(I157*H157,2) -> 0 | N157: znížená | P157: =O157*H157 -> 0 | Q157: 0 | R157: =Q157*H157 -> 0 | S157: 0 | T157: =S157*H157 -> 0 | AR157: 4 | AT157: K | AU157: 2 | AY157: ROZPOCET | BE157: =IF(N157="základná",J157,0) -> 0 | BF157: =IF(N157="znížená",J157,0) -> 0 | BG157: =IF(N157="zákl. prenesená",J157,0) -> 0 | BH157: =IF(N157="zníž. prenesená",J157,0) -> 0 | BI157: =IF(N157="nulová",J157,0) -> 0 | BJ157: 2 | BK157: =ROUND(I157*H157,2) -> 0 | BL157: 4 | BM157: 18
C158: 10 | D158: K | E158: 151101301 | F158: Zhotovenie rozopretia stien príložného paženia hĺbka do 4 m | G158: m3 | H158: 0.48 | J158: =ROUND(I158*H158,2) -> 0 | N158: znížená | P158: =O158*H158 -> 0 | Q158: 0.00045 | R158: =Q158*H158 -> 0.000216 | S158: 0 | T158: =S158*H158 -> 0 | AR158: 4 | AT158: K | AU158: 2 | AY158: ROZPOCET | BE158: =IF(N158="základná",J158,0) -> 0 | BF158: =IF(N158="znížená",J158,0) -> 0 | BG158: =IF(N158="zákl. prenesená",J158,0) -> 0 | BH158: =IF(N158="zníž. prenesená",J158,0) -> 0 | BI158: =IF(N158="nulová",J158,0) -> 0 | BJ158: 2 | BK158: =ROUND(I158*H158,2) -> 0 | BL158: 4 | BM158: 20
C159: 11 | D159: K | E159: 151101311 | F159: Odstránenie rozopretia stien príložného paženia hĺbka do 4 m | G159: m3 | H159: 0.48 | J159: =ROUND(I159*H159,2) -> 0 | N159: znížená | P159: =O159*H159 -> 0 | Q159: 0 | R159: =Q159*H159 -> 0 | S159: 0 | T159: =S159*H159 -> 0 | AR159: 4 | AT159: K | AU159: 2 | AY159: ROZPOCET | BE159: =IF(N159="základná",J159,0) -> 0 | BF159: =IF(N159="znížená",J159,0) -> 0 | BG159: =IF(N159="zákl. prenesená",J159,0) -> 0 | BH159: =IF(N159="zníž. prenesená",J159,0) -> 0 | BI159: =IF(N159="nulová",J159,0) -> 0 | BJ159: 2 | BK159: =ROUND(I159*H159,2) -> 0 | BL159: 4 | BM159: 22
C160: 12 | D160: K | E160: 161101101 | F160: Zvislé premiestnenie výkopu horn. tr. 1-4 nad 1 m do 2,5 m | G160: m3 | H160: 79.68 | J160: =ROUND(I160*H160,2) -> 0 | N160: znížená | P160: =O160*H160 -> 0 | Q160: 0 | R160: =Q160*H160 -> 0 | S160: 0 | T160: =S160*H160 -> 0 | AR160: 4 | AT160: K | AU160: 2 | AY160: ROZPOCET | BE160: =IF(N160="základná",J160,0) -> 0 | BF160: =IF(N160="znížená",J160,0) -> 0 | BG160: =IF(N160="zákl. prenesená",J160,0) -> 0 | BH160: =IF(N160="zníž. prenesená",J160,0) -> 0 | BI160: =IF(N160="nulová",J160,0) -> 0 | BJ160: 2 | BK160: =ROUND(I160*H160,2) -> 0 | BL160: 4 | BM160: 24
C161: 13 | D161: K | E161: 162201102 | F161: Vodorovné premiestnenie výkopu do 50 m horn. tr. 1-4 | G161: m3 | H161: 87.21 | J161: =ROUND(I161*H161,2) -> 0 | N161: znížená | P161: =O161*H161 -> 0 | Q161: 0 | R161: =Q161*H161 -> 0 | S161: 0 | T161: =S161*H161 -> 0 | AR161: 4 | AT161: K | AU161: 2 | AY161: ROZPOCET | BE161: =IF(N161="základná",J161,0) -> 0 | BF161: =IF(N161="znížená",J161,0) -> 0 | BG161: =IF(N161="zákl. prenesená",J161,0) -> 0 | BH161: =IF(N161="zníž. prenesená",J161,0) -> 0 | BI161: =IF(N161="nulová",J161,0) -> 0 | BJ161: 2 | BK161: =ROUND(I161*H161,2) -> 0 | BL161: 4 | BM161: 26
D162: P | F162: Poznámka k položke:_x000D_ odkopávky = 5,85m3_x000D_ hĺbenie rýh š.60cm = 1,68m3_x000D_ hĺbenie rýh š.do2m = 79,68m3_x000D_ celkovo : 5,85+1,68+79,68 = 87,21m3 | AT162: P | AU162: 2
C163: 14 | D163: K | E163: 167101101 | F163: Nakladanie výkopku do 100 m3 v horn. tr. 1-4 | G163: m3 | H163: 87.21 | J163: =ROUND(I163*H163,2) -> 0 | N163: znížená | P163: =O163*H163 -> 0 | Q163: 0 | R163: =Q163*H163 -> 0 | S163: 0 | T163: =S163*H163 -> 0 | AR163: 4 | AT163: K | AU163: 2 | AY163: ROZPOCET | BE163: =IF(N163="základná",J163,0) -> 0 | BF163: =IF(N163="znížená",J163,0) -> 0 | BG163: =IF(N163="zákl. prenesená",J163,0) -> 0 | BH163: =IF(N163="zníž. prenesená",J163,0) -> 0 | BI163: =IF(N163="nulová",J163,0) -> 0 | BJ163: 2 | BK163: =ROUND(I163*H163,2) -> 0 | BL163: 4 | BM163: 28
C164: 15 | D164: K | E164: 171101141 | F164: Násypy zhut. z akýchkol. hornín do 0,75 m3 na 1 m2 pre cesty, železn. | G164: m3 | H164: 108.39 | J164: =ROUND(I164*H164,2) -> 0 | N164: znížená | P164: =O164*H164 -> 0 | Q164: 0 | R164: =Q164*H164 -> 0 | S164: 0 | T164: =S164*H164 -> 0 | AR164: 4 | AT164: K | AU164: 2 | AY164: ROZPOCET | BE164: =IF(N164="základná",J164,0) -> 0 | BF164: =IF(N164="znížená",J164,0) -> 0 | BG164: =IF(N164="zákl. prenesená",J164,0) -> 0 | BH164: =IF(N164="zníž. prenesená",J164,0) -> 0 | BI164: =IF(N164="nulová",J164,0) -> 0 | BJ164: 2 | BK164: =ROUND(I164*H164,2) -> 0 | BL164: 4 | BM164: 30
...

Sheet Časť 5 - Ukrajinská od mo...
L2: >> skryté stĺpce << | AT2: {589de97d-d6d0-4898-a74a-c5dd4576b7b7}
AT3: 0
D4: KRYCÍ LIST ROZPOČTU | M4: v --- nižšie sa nachádzajú doplnkové a pomocné údaje k zostavám --- v | AT4: False
D6: Stavba:
E7: ='Rekapitulácia stavby'!K6 -> Miestne komunikácie Krásna
D8: Objekt:
E9: 02 - Výstavba chodníkov na Ukrajinskej a Mozartovej ulici
D10: Časť:
E11: Časť 5 - Ukrajinská od mostu cez Hornád po Átrium
D13: JKSO: | I13: ČS:
D14: Miesto: | F14: Mestská časť Košice - Krásna | I14: Dátum: | J14: ='Rekapitulácia stavby'!AN8 -> 4. 3. 2026
D16: Objednávateľ: | I16: IČO:
E17: Mestská časť Košice - Krásna, Opátska18, Košice | I17: IČ DPH:
D19: Zhotoviteľ: | I19: IČO: | J19: ='Rekapitulácia stavby'!AN13 -> Vyplň údaj
E20: ='Rekapitulácia stavby'!E14 -> Vyplň údaj | I20: IČ DPH: | J20: ='Rekapitulácia stavby'!AN14 -> Vyplň údaj
D22: Projektant: | I22: IČO: | J22: =IF('Rekapitulácia stavby'!AN16="","",'Rekapitulácia stavby'!AN16)
E23: =IF('Rekapitulácia stavby'!E17="","",'Rekapitulácia stavby'!E17) | I23: IČ DPH: | J23: =IF('Rekapitulácia stavby'!AN17="","",'Rekapitulácia stavby'!AN17)
D25: Spracovateľ: | I25: IČO: | J25: =IF('Rekapitulácia stavby'!AN19="","",'Rekapitulácia stavby'!AN19)
E26: =IF('Rekapitulácia stavby'!E20="","",'Rekapitulácia stavby'!E20) | I26: IČ DPH: | J26: =IF('Rekapitulácia stavby'!AN20="","",'Rekapitulácia stavby'!AN20)
D28: Poznámka:
D32: Náklady z rozpočtu | J32: =J98 -> 0
D33: Ostatné náklady | J33: =J113 -> 0
D34: Cena bez DPH | J34: =ROUND(J32 + J33, 2) -> 0
F36: Základ dane | I36: Sadzba dane | J36: Výška dane
D37: DPH | E37: základná | F37: =ROUND((SUM(BE113:BE120) + SUM(BE142:BE238)), 2) -> 0 | I37: 0.23 | J37: =ROUND(((SUM(BE113:BE120) + SUM(BE142:BE238))*I37), 2) -> 0
E38: znížená | F38: =ROUND((SUM(BF113:BF120) + SUM(BF142:BF238)), 2) -> 0 | I38: 0.23 | J38: =ROUND(((SUM(BF113:BF120) + SUM(BF142:BF238))*I38), 2) -> 0
E39: zákl. prenesená | F39: =ROUND((SUM(BG113:BG120) + SUM(BG142:BG238)), 2) -> 0 | I39: 0.23 | J39: =0 -> 0
E40: zníž. prenesená | F40: =ROUND((SUM(BH113:BH120) + SUM(BH142:BH238)), 2) -> 0 | I40: 0.23 | J40: =0 -> 0
E41: nulová | F41: =ROUND((SUM(BI113:BI120) + SUM(BI142:BI238)), 2) -> 0 | I41: 0 | J41: =0 -> 0
D43: Cena s DPH | G43: v | H43: EUR | J43: =SUM(J34:J41) -> 0
D50: Projektant | G50: Spracovateľ
D61: Dátum a podpis: | F61: Pečiatka | G61: Dátum a podpis: | J61: Pečiatka
D65: Objednávateľ | G65: Zhotoviteľ
D76: Dátum a podpis: | F76: Pečiatka | G76: Dátum a podpis: | J76: Pečiatka
C82: REKAPITULÁCIA ROZPOČTU
C84: Stavba:
E85: =E7 -> Miestne komunikácie Krásna
C86: Objekt:
E87: 02 - Výstavba chodníkov na Ukrajinskej a Mozartovej ulici
C88: Časť:
E89: =E11 -> Časť 5 - Ukrajinská od mostu cez Hornád po Átrium
C91: Miesto: | F91: =F14 -> Mestská časť Košice - Krásna | I91: Dátum: | J91: =IF(J14="","",J14) -> 4. 3. 2026
C93: Objednávateľ: | F93: =E17 -> Mestská časť Košice - Krásna, Opátska18, Košice | I93: Projektant: | J93: =E23
C94: Zhotoviteľ: | F94: =IF(E20="","",E20) -> Vyplň údaj | I94: Spracovateľ: | J94: =E26
C96: Kód dielu - Popis | J96: Cena celkom [EUR]
C98: 1) Náklady z rozpočtu | J98: =J142 -> 0 | AU98: -1
D99: D1 - PRÁCE A DODÁVKY HSV | J99: =J143 -> 0
D100: 1 - ZEMNE PRÁCE | J100: =J144 -> 0
D101: 2 - ZÁKLADY | J101: =J169 -> 0
D102: 3 - ZVISLÉ A KOMPLETNÉ KONŠTRUKCIE | J102: =J183 -> 0
D103: 4 - VODOROVNÉ KONŠTRUKCIE | J103: =J189 -> 0
D104: 5 - KOMUNIKÁCIE | J104: =J193 -> 0
D105: 9 - OSTATNÉ KONŠTRUKCIE A PRÁCE | J105: =J206 -> 0
D106: D2 - PRÁCE A DODÁVKY PSV | J106: =J227 -> 0
D107: 767 - Konštrukcie doplnk. kovové stavebné | J107: =J228 -> 0
D108: 783 - Nátery | J108: =J232 -> 0
D109: D3 - OSTATNÉ | J109: =J236 -> 0
D110: OST - vedľajšie rozpočtové náklady | J110: =J237 -> 0
C113: 2) Ostatné náklady | J113: =ROUND(J114 + J115 + J116 + J117 + J118 + J119,2) -> 0 | N113: DPH
D114: GZS | J114: 0 | N114: znížená | AY114: VRN | BE114: =IF(N114="základná",J114,0) -> 0 | BF114: =IF(N114="znížená",J114,0) -> 0 | BG114: =IF(N114="zákl. prenesená",J114,0) -> 0 | BH114: =IF(N114="zníž. prenesená",J114,0) -> 0 | BI114: =IF(N114="nulová",J114,0) -> 0 | BJ114: 2
D115: Projektové práce | J115: 0 | N115: znížená | AY115: VRN | BE115: =IF(N115="základná",J115,0) -> 0 | BF115: =IF(N115="znížená",J115,0) -> 0 | BG115: =IF(N115="zákl. prenesená",J115,0) -> 0 | BH115: =IF(N115="zníž. prenesená",J115,0) -> 0 | BI115: =IF(N115="nulová",J115,0) -> 0 | BJ115: 2
D116: Sťažené podmienky | J116: 0 | N116: znížená | AY116: VRN | BE116: =IF(N116="základná",J116,0) -> 0 | BF116: =IF(N116="znížená",J116,0) -> 0 | BG116: =IF(N116="zákl. prenesená",J116,0) -> 0 | BH116: =IF(N116="zníž. prenesená",J116,0) -> 0 | BI116: =IF(N116="nulová",J116,0) -> 0 | BJ116: 2
D117: Vplyv prostredia | J117: 0 | N117: znížená | AY117: VRN | BE117: =IF(N117="základná",J117,0) -> 0 | BF117: =IF(N117="znížená",J117,0) -> 0 | BG117: =IF(N117="zákl. prenesená",J117,0) -> 0 | BH117: =IF(N117="zníž. prenesená",J117,0) -> 0 | BI117: =IF(N117="nulová",J117,0) -> 0 | BJ117: 2
D118: Iné VRN | J118: 0 | N118: znížená | AY118: VRN | BE118: =IF(N118="základná",J118,0) -> 0 | BF118: =IF(N118="znížená",J118,0) -> 0 | BG118: =IF(N118="zákl. prenesená",J118,0) -> 0 | BH118: =IF(N118="zníž. prenesená",J118,0) -> 0 | BI118: =IF(N118="nulová",J118,0) -> 0 | BJ118: 2
D119: Kompletačná činnosť | J119: =ROUND(J32*T119,2) -> 0 | N119: znížená | AY119: KOMPLETACNA | BE119: =IF(N119="základná",J119,0) -> 0 | BF119: =IF(N119="znížená",J119,0) -> 0 | BG119: =IF(N119="zákl. prenesená",J119,0) -> 0 | BH119: =IF(N119="zníž. prenesená",J119,0) -> 0 | BI119: =IF(N119="nulová",J119,0) -> 0 | BJ119: 2
C121: Celkové náklady za stavbu 1) + 2) | J121: =ROUND(J98+J113,2) -> 0
C127: ROZPOČET
C129: Stavba:
E130: =E7 -> Miestne komunikácie Krásna
C131: Objekt:
E132: 02 - Výstavba chodníkov na Ukrajinskej a Mozartovej ulici
C133: Časť:
E134: =E11 -> Časť 5 - Ukrajinská od mostu cez Hornád po Átrium
C136: Miesto: | F136: =F14 -> Mestská časť Košice - Krásna | I136: Dátum: | J136: =IF(J14="","",J14) -> 4. 3. 2026
C138: Objednávateľ: | F138: =E17 -> Mestská časť Košice - Krásna, Opátska18, Košice | I138: Projektant: | J138: =E23
C139: Zhotoviteľ: | F139: =IF(E20="","",E20) -> Vyplň údaj | I139: Spracovateľ: | J139: =E26
C141: PČ | D141: Typ | E141: Kód | F141: Popis | G141: MJ | H141: Množstvo | I141: J.cena [EUR] | J141: Cena celkom [EUR] | K141: Cenová sústava | N141: DPH | O141: J. Nh [h] | P141: Nh celkom [h] | Q141: J. hmotnosť [t] | R141: Hmotnosť celkom [t] | S141: J. suť [t] | T141: Suť Celkom [t]
C142: Náklady z rozpočtu | J142: =BK142 -> 0 | P142: =P143+P227+P236 -> 0 | R142: =R143+R227+R236 -> 362.10205 | T142: =T143+T227+T236 -> 8.66106 | AT142: D | AU142: -1 | BK142: =BK143+BK227+BK236 -> 0
D143: D | E143: D1 | F143: PRÁCE A DODÁVKY HSV | J143: =BK143 -> 0 | P143: =P144+P169+P183+P189+P193+P206 -> 0 | R143: =R144+R169+R183+R189+R193+R206 -> 361.43032 | T143: =T144+T169+T183+T189+T193+T206 -> 8.66106 | AR143: 1 | AT143: D | AU143: 0 | AY143: ROZPOCET | BK143: =BK144+BK169+BK183+BK189+BK193+BK206 -> 0
D144: D | E144: 1 | F144: ZEMNE PRÁCE | J144: =BK144 -> 0 | P144: =SUM(P145:P168) -> 0 | R144: =SUM(R145:R168) -> 0.010716 | T144: =SUM(T145:T168) -> 8.50914 | AR144: 1 | AT144: D | AU144: 1 | AY144: ROZPOCET | BK144: =SUM(BK145:BK168) -> 0
C145: 1 | D145: K | E145: 120902113 | F145: Búranie betónu železového | G145: m3 | H145: 1.845 | J145: =ROUND(I145*H145,2) -> 0 | N145: znížená | P145: =O145*H145 -> 0 | Q145: 0 | R145: =Q145*H145 -> 0 | S145: 4.612 | T145: =S145*H145 -> 8.50914 | AR145: 4 | AT145: K | AU145: 2 | AY145: ROZPOCET | BE145: =IF(N145="základná",J145,0) -> 0 | BF145: =IF(N145="znížená",J145,0) -> 0 | BG145: =IF(N145="zákl. prenesená",J145,0) -> 0 | BH145: =IF(N145="zníž. prenesená",J145,0) -> 0 | BI145: =IF(N145="nulová",J145,0) -> 0 | BJ145: 2 | BK145: =ROUND(I145*H145,2) -> 0 | BL145: 4 | BM145: 2
C146: 2 | D146: K | E146: 122201101 | F146: Odkopávky a prekopávky nezapaž. v horn. tr. 3 do 100 m3 | G146: m3 | H146: 67.08 | J146: =ROUND(I146*H146,2) -> 0 | N146: znížená | P146: =O146*H146 -> 0 | Q146: 0 | R146: =Q146*H146 -> 0 | S146: 0 | T146: =S146*H146 -> 0 | AR146: 4 | AT146: K | AU146: 2 | AY146: ROZPOCET | BE146: =IF(N146="základná",J146,0) -> 0 | BF146: =IF(N146="znížená",J146,0) -> 0 | BG146: =IF(N146="zákl. prenesená",J146,0) -> 0 | BH146: =IF(N146="zníž. prenesená",J146,0) -> 0 | BI146: =IF(N146="nulová",J146,0) -> 0 | BJ146: 2 | BK146: =ROUND(I146*H146,2) -> 0 | BL146: 4 | BM146: 4
D147: P | F147: Poznámka k položke:_x000D_ hĺbka výkopu = 0,39m_x000D_ plocha výkopu = 172m2_x000D_ celkovo : 0,39*172 = 67,08m3 | AT147: P | AU147: 2
C148: 3 | D148: K | E148: 122201109 | F148: Príplatok za lepivosť horniny tr.3 | G148: m3 | H148: 67.08 | J148: =ROUND(I148*H148,2) -> 0 | N148: znížená | P148: =O148*H148 -> 0 | Q148: 0 | R148: =Q148*H148 -> 0 | S148: 0 | T148: =S148*H148 -> 0 | AR148: 4 | AT148: K | AU148: 2 | AY148: ROZPOCET | BE148: =IF(N148="základná",J148,0) -> 0 | BF148: =IF(N148="znížená",J148,0) -> 0 | BG148: =IF(N148="zákl. prenesená",J148,0) -> 0 | BH148: =IF(N148="zníž. prenesená",J148,0) -> 0 | BI148: =IF(N148="nulová",J148,0) -> 0 | BJ148: 2 | BK148: =ROUND(I148*H148,2) -> 0 | BL148: 4 | BM148: 6
C149: 4 | D149: K | E149: 132201101 | F149: Hĺbenie rýh šírka do 60 cm v horn. tr. 3 do 100 m3 | G149: m3 | H149: 1.68 | J149: =ROUND(I149*H149,2) -> 0 | N149: znížená | P149: =O149*H149 -> 0 | Q149: 0 | R149: =Q149*H149 -> 0 | S149: 0 | T149: =S149*H149 -> 0 | AR149: 4 | AT149: K | AU149: 2 | AY149: ROZPOCET | BE149: =IF(N149="základná",J149,0) -> 0 | BF149: =IF(N149="znížená",J149,0) -> 0 | BG149: =IF(N149="zákl. prenesená",J149,0) -> 0 | BH149: =IF(N149="zníž. prenesená",J149,0) -> 0 | BI149: =IF(N149="nulová",J149,0) -> 0 | BJ149: 2 | BK149: =ROUND(I149*H149,2) -> 0 | BL149: 4 | BM149: 8
D150: P | F150: Poznámka k položke:_x000D_ napojenie na most : 1,5*0,5*0,8 = 0,6m3_x000D_ schodiskové prahy : 1,2*0,5*0,9*2 = 1,08m3_x000D_ celkovo : 0,6+1,08 = 1,68m3 | AT150: P | AU150: 2
C151: 5 | D151: K | E151: 132201109 | F151: Príplatok za lepivosť horniny tr. 3 v rýhach š. do 60 cm | G151: m3 | H151: 1.68 | J151: =ROUND(I151*H151,2) -> 0 | N151: znížená | P151: =O151*H151 -> 0 | Q151: 0 | R151: =Q151*H151 -> 0 | S151: 0 | T151: =S151*H151 -> 0 | AR151: 4 | AT151: K | AU151: 2 | AY151: ROZPOCET | BE151: =IF(N151="základná",J151,0) -> 0 | BF151: =IF(N151="znížená",J151,0) -> 0 | BG151: =IF(N151="zákl. prenesená",J151,0) -> 0 | BH151: =IF(N151="zníž. prenesená",J151,0) -> 0 | BI151: =IF(N151="nulová",J151,0) -> 0 | BJ151: 2 | BK151: =ROUND(I151*H151,2) -> 0 | BL151: 4 | BM151: 10
C152: 6 | D152: K | E152: 132201200 | F152: Hĺbenie rýh šírka do 2 m v horn. tr. 3 nad 100 m3 | G152: m3 | H152: 30.64 | J152: =ROUND(I152*H152,2) -> 0 | N152: znížená | P152: =O152*H152 -> 0 | Q152: 0 | R152: =Q152*H152 -> 0 | S152: 0 | T152: =S152*H152 -> 0 | AR152: 4 | AT152: K | AU152: 2 | AY152: ROZPOCET | BE152: =IF(N152="základná",J152,0) -> 0 | BF152: =IF(N152="znížená",J152,0) -> 0 | BG152: =IF(N152="zákl. prenesená",J152,0) -> 0 | BH152: =IF(N152="zníž. prenesená",J152,0) -> 0 | BI152: =IF(N152="nulová",J152,0) -> 0 | BJ152: 2 | BK152: =ROUND(I152*H152,2) -> 0 | BL152: 4 | BM152: 12
D153: P | F153: Poznámka k položke:_x000D_ oporný múr : 0,8*1,1*13 = 11,44m3_x000D_ gabión : 0,8*2,0*12 = 19,2m3_x000D_ celkovo : 11,44 + 19,2 = 30,64m3 | AT153: P | AU153: 2
C154: 7 | D154: K | E154: 132201209 | F154: Príplatok za lepivosť horniny tr.3 v rýhach š. do 200 cm | G154: m3 | H154: 30.64 | J154: =ROUND(I154*H154,2) -> 0 | N154: znížená | P154: =O154*H154 -> 0 | Q154: 0 | R154: =Q154*H154 -> 0 | S154: 0 | T154: =S154*H154 -> 0 | AR154: 4 | AT154: K | AU154: 2 | AY154: ROZPOCET | BE154: =IF(N154="základná",J154,0) -> 0 | BF154: =IF(N154="znížená",J154,0) -> 0 | BG154: =IF(N154="zákl. prenesená",J154,0) -> 0 | BH154: =IF(N154="zníž. prenesená",J154,0) -> 0 | BI154: =IF(N154="nulová",J154,0) -> 0 | BJ154: 2 | BK154: =ROUND(I154*H154,2) -> 0 | BL154: 4 | BM154: 14
C155: 8 | D155: K | E155: 151101201 | F155: Zhotovenie paženia stien výkopu príložné hl. do 4 m | G155: m2 | H155: 42 | J155: =ROUND(I155*H155,2) -> 0 | N155: znížená | P155: =O155*H155 -> 0 | Q155: 0.00025 | R155: =Q155*H155 -> 0.0105 | S155: 0 | T155: =S155*H155 -> 0 | AR155: 4 | AT155: K | AU155: 2 | AY155: ROZPOCET | BE155: =IF(N155="základná",J155,0) -> 0 | BF155: =IF(N155="znížená",J155,0) -> 0 | BG155: =IF(N155="zákl. prenesená",J155,0) -> 0 | BH155: =IF(N155="zníž. prenesená",J155,0) -> 0 | BI155: =IF(N155="nulová",J155,0) -> 0 | BJ155: 2 | BK155: =ROUND(I155*H155,2) -> 0 | BL155: 4 | BM155: 16
D156: P | F156: Poznámka k položke:_x000D_ (1,5*1,2) + (2,0*1,2) = 42m2 | AT156: P | AU156: 2
C157: 9 | D157: K | E157: 151101211 | F157: Odstránenie paženia stien výkopu príložné hl. do 4 m | G157: m2 | H157: 42 | J157: =ROUND(I157*H157,2) -> 0 | N157: znížená | P157: =O157*H157 -> 0 | Q157: 0 | R157: =Q157*H157 -> 0 | S157: 0 | T157: =S157*H157 -> 0 | AR157: 4 | AT157: K | AU157: 2 | AY157: ROZPOCET | BE157: =IF(N157="základná",J157,0) -> 0 | BF157: =IF(N157="znížená",J157,0) -> 0 | BG157: =IF(N157="zákl. prenesená",J157,0) -> 0 | BH157: =IF(N157="zníž. prenesená",J157,0) -> 0 | BI157: =IF(N157="nulová",J157,0) -> 0 | BJ157: 2 | BK157: =ROUND(I157*H157,2) -> 0 | BL157: 4 | BM157: 18
C158: 10 | D158: K | E158: 151101301 | F158: Zhotovenie rozopretia stien príložného paženia hĺbka do 4 m | G158: m3 | H158: 0.48 | J158: =ROUND(I158*H158,2) -> 0 | N158: znížená | P158: =O158*H158 -> 0 | Q158: 0.00045 | R158: =Q158*H158 -> 0.000216 | S158: 0 | T158: =S158*H158 -> 0 | AR158: 4 | AT158: K | AU158: 2 | AY158: ROZPOCET | BE158: =IF(N158="základná",J158,0) -> 0 | BF158: =IF(N158="znížená",J158,0) -> 0 | BG158: =IF(N158="zákl. prenesená",J158,0) -> 0 | BH158: =IF(N158="zníž. prenesená",J158,0) -> 0 | BI158: =IF(N158="nulová",J158,0) -> 0 | BJ158: 2 | BK158: =ROUND(I158*H158,2) -> 0 | BL158: 4 | BM158: 20
C159: 11 | D159: K | E159: 151101311 | F159: Odstránenie rozopretia stien príložného paženia hĺbka do 4 m | G159: m3 | H159: 0.48 | J159: =ROUND(I159*H159,2) -> 0 | N159: znížená | P159: =O159*H159 -> 0 | Q159: 0 | R159: =Q159*H159 -> 0 | S159: 0 | T159: =S159*H159 -> 0 | AR159: 4 | AT159: K | AU159: 2 | AY159: ROZPOCET | BE159: =IF(N159="základná",J159,0) -> 0 | BF159: =IF(N159="znížená",J159,0) -> 0 | BG159: =IF(N159="zákl. prenesená",J159,0) -> 0 | BH159: =IF(N159="zníž. prenesená",J159,0) -> 0 | BI159: =IF(N159="nulová",J159,0) -> 0 | BJ159: 2 | BK159: =ROUND(I159*H159,2) -> 0 | BL159: 4 | BM159: 22
C160: 12 | D160: K | E160: 161101101 | F160: Zvislé premiestnenie výkopu horn. tr. 1-4 nad 1 m do 2,5 m | G160: m3 | H160: 30.64 | J160: =ROUND(I160*H160,2) -> 0 | N160: znížená | P160: =O160*H160 -> 0 | Q160: 0 | R160: =Q160*H160 -> 0 | S160: 0 | T160: =S160*H160 -> 0 | AR160: 4 | AT160: K | AU160: 2 | AY160: ROZPOCET | BE160: =IF(N160="základná",J160,0) -> 0 | BF160: =IF(N160="znížená",J160,0) -> 0 | BG160: =IF(N160="zákl. prenesená",J160,0) -> 0 | BH160: =IF(N160="zníž. prenesená",J160,0) -> 0 | BI160: =IF(N160="nulová",J160,0) -> 0 | BJ160: 2 | BK160: =ROUND(I160*H160,2) -> 0 | BL160: 4 | BM160: 24
C161: 13 | D161: K | E161: 162201102 | F161: Vodorovné premiestnenie výkopu do 50 m horn. tr. 1-4 | G161: m3 | H161: 99.4 | J161: =ROUND(I161*H161,2) -> 0 | N161: znížená | P161: =O161*H161 -> 0 | Q161: 0 | R161: =Q161*H161 -> 0 | S161: 0 | T161: =S161*H161 -> 0 | AR161: 4 | AT161: K | AU161: 2 | AY161: ROZPOCET | BE161: =IF(N161="základná",J161,0) -> 0 | BF161: =IF(N161="znížená",J161,0) -> 0 | BG161: =IF(N161="zákl. prenesená",J161,0) -> 0 | BH161: =IF(N161="zníž. prenesená",J161,0) -> 0 | BI161: =IF(N161="nulová",J161,0) -> 0 | BJ161: 2 | BK161: =ROUND(I161*H161,2) -> 0 | BL161: 4 | BM161: 26
D162: P | F162: Poznámka k položke:_x000D_ odkopávky = 67,08m3_x000D_ hĺbenie rýh š. 60cm = 1,68m3_x000D_ hĺbenie rýh š. do 2m = 30,64m3_x000D_ celkovo : 67,08 + 1,68 + 30,64 = 99,4m3 | AT162: P | AU162: 2
C163: 14 | D163: K | E163: 167101101 | F163: Nakladanie výkopku do 100 m3 v horn. tr. 1-4 | G163: m3 | H163: 99.4 | J163: =ROUND(I163*H163,2) -> 0 | N163: znížená | P163: =O163*H163 -> 0 | Q163: 0 | R163: =Q163*H163 -> 0 | S163: 0 | T163: =S163*H163 -> 0 | AR163: 4 | AT163: K | AU163: 2 | AY163: ROZPOCET | BE163: =IF(N163="základná",J163,0) -> 0 | BF163: =IF(N163="znížená",J163,0) -> 0 | BG163: =IF(N163="zákl. prenesená",J163,0) -> 0 | BH163: =IF(N163="zníž. prenesená",J163,0) -> 0 | BI163: =IF(N163="nulová",J163,0) -> 0 | BJ163: 2 | BK163: =ROUND(I163*H163,2) -> 0 | BL163: 4 | BM163: 28
C164: 15 | D164: K | E164: 171101141 | F164: Násypy zhut. z akýchkol. hornín do 0,75 m3 na 1 m2 pre cesty, železn. | G164: m3 | H164: 61.69 | J164: =ROUND(I164*H164,2) -> 0 | N164: znížená | P164: =O164*H164 -> 0 | Q164: 0 | R164: =Q164*H164 -> 0 | S164: 0 | T164: =S164*H164 -> 0 | AR164: 4 | AT164: K | AU164: 2 | AY164: ROZPOCET | BE164: =IF(N164="základná",J164,0) -> 0 | BF164: =IF(N164="znížená",J164,0) -> 0 | BG164: =IF(N164="zákl. prenesená",J164,0) -> 0 | BH164: =IF(N164="zníž. prenesená",J164,0) -> 0 | BI164: =IF(N164="nulová",J164,0) -> 0 | BJ164: 2 | BK164: =ROUND(I164*H164,2) -> 0 | BL164: 4 | BM164: 30
...
